View In:
ArcGIS JavaScript
ArcGIS Online Map Viewer
ArcGIS Earth
ArcMap
View Footprint In:
ArcGIS Online Map Viewer
Service Description: Demo
Name: ekst_mapservice/DTM2020BS
Description: Demo
Single Fused Map Cache: false
Extent:
XMin: 713566.8
YMin: 6167799.6
XMax: 716863.2000000001
YMax: 6170000
Spatial Reference: 25832
(25832)
Initial Extent:
XMin: 713566.8
YMin: 6167799.6
XMax: 716863.2000000001
YMax: 6170000
Spatial Reference: 25832
(25832)
Full Extent:
XMin: 713566.8
YMin: 6167799.6
XMax: 716863.2000000001
YMax: 6170000
Spatial Reference: 25832
(25832)
Pixel Size X: 0.4000000000000028
Pixel Size Y: 0.40000000000006775
Band Count: 1
Pixel Type: F32
RasterFunction Infos: {"rasterFunctionInfos": [{
"name": "None",
"description": "",
"help": ""
}]}
Mensuration Capabilities: Basic
Has Histograms: true
Has Colormap: false
Has Multi Dimensions : false
Rendering Rule:
Min Scale: 0
Max Scale: 0
Copyright Text: nd
Service Data Type: esriImageServiceDataTypeGeneric
Min Values: -3.249830961227417
Max Values: 19.40674591064453
Mean Values: 2.8811321868678625
Standard Deviation Values: 2.5506572732081767
Object ID Field:
Fields:
None
Default Mosaic Method: Center
Allowed Mosaic Methods:
SortField:
SortValue: null
Mosaic Operator: First
Default Compression Quality: 75
Default Resampling Method: Bilinear
Max Record Count: null
Max Image Height: 4100
Max Image Width: 15000
Max Download Image Count: null
Max Mosaic Image Count: null
Allow Raster Function: true
Allow Copy: null
Allow Analysis: null
Allow Compute TiePoints: false
Supports Statistics: false
Supports Advanced Queries: false
Use StandardizedQueries: true
Raster Type Infos:
Name: Raster Dataset
Description: Supports all ArcGIS Raster Datasets
Help:
Has Raster Attribute Table: false
Edit Fields Info: null
Ownership Based AccessControl For Rasters: null
Child Resources:
Info
Histograms
Key Properties
Legend
Raster Function Infos
Supported Operations:
Export Image
Identify
Measure
Compute Histograms
Compute Statistics Histograms
Get Samples
Compute Class Statistics
Query Boundary
Compute Pixel Location
Compute Angles
Validate
Project