View In:
ArcGIS JavaScript
ArcGIS Online Map Viewer
ArcGIS Earth
ArcMap
View Footprint In:
ArcGIS Online Map Viewer
Service Description: Ortofoto for BS 3D demo
Name: ekst_mapservice/Ortofoto2020BS_RGB
Description: Ortofoto for BS 3D demo
Single Fused Map Cache: false
Extent:
XMin: 713567.0105425892
YMin: 6167799.857204815
XMax: 716863.1105303103
YMax: 6170002.257196611
Spatial Reference: 25832
(25832)
Initial Extent:
XMin: 713567.0105425892
YMin: 6167799.857204815
XMax: 716863.1105303103
YMax: 6170002.257196611
Spatial Reference: 25832
(25832)
Full Extent:
XMin: 713567.0105425892
YMin: 6167799.857204815
XMax: 716863.1105303103
YMax: 6170002.257196611
Spatial Reference: 25832
(25832)
Pixel Size X: 0.09999999962747097
Pixel Size Y: 0.09999999962747097
Band Count: 3
Pixel Type: U8
RasterFunction Infos: {"rasterFunctionInfos": [{
"name": "None",
"description": "",
"help": ""
}]}
Mensuration Capabilities: Basic
Has Histograms: true
Has Colormap: false
Has Multi Dimensions : false
Rendering Rule:
Min Scale: 0
Max Scale: 0
Copyright Text:
Service Data Type: esriImageServiceDataTypeRGB
Min Values: 8, 12, 2
Max Values: 255, 255, 251
Mean Values: 87.65844437414962, 91.67804943376983, 82.45573900598637
Standard Deviation Values: 52.324743320177355, 44.70997056173485, 39.57027109578611
Object ID Field:
Fields:
None
Default Mosaic Method: Center
Allowed Mosaic Methods:
SortField:
SortValue: null
Mosaic Operator: First
Default Compression Quality: 75
Default Resampling Method: Bilinear
Max Record Count: null
Max Image Height: 4100
Max Image Width: 15000
Max Download Image Count: null
Max Mosaic Image Count: null
Allow Raster Function: true
Allow Copy: null
Allow Analysis: null
Allow Compute TiePoints: false
Supports Statistics: false
Supports Advanced Queries: false
Use StandardizedQueries: true
Raster Type Infos:
Name: Raster Dataset
Description: Supports all ArcGIS Raster Datasets
Help:
Has Raster Attribute Table: false
Edit Fields Info: null
Ownership Based AccessControl For Rasters: null
Child Resources:
Info
Histograms
Key Properties
Legend
Raster Function Infos
Supported Operations:
Export Image
Identify
Measure
Compute Histograms
Compute Statistics Histograms
Get Samples
Compute Class Statistics
Query Boundary
Compute Pixel Location
Compute Angles
Validate
Project